BEGIN:VCALENDAR
VERSION:2.0
PRODID:-// - ECPv6.15.20//NONSGML v1.0//EN
CALSCALE:GREGORIAN
METHOD:PUBLISH
X-ORIGINAL-URL:https://veuve-chretienne.fr
X-WR-CALDESC:Évènements pour 
REFRESH-INTERVAL;VALUE=DURATION:PT1H
X-Robots-Tag:noindex
X-PUBLISHED-TTL:PT1H
BEGIN:VTIMEZONE
TZID:Europe/Paris
BEGIN:DAYLIGHT
TZOFFSETFROM:+0100
TZOFFSETTO:+0200
TZNAME:CEST
DTSTART:20170326T010000
END:DAYLIGHT
BEGIN:STANDARD
TZOFFSETFROM:+0200
TZOFFSETTO:+0100
TZNAME:CET
DTSTART:20171029T010000
END:STANDARD
BEGIN:DAYLIGHT
TZOFFSETFROM:+0100
TZOFFSETTO:+0200
TZNAME:CEST
DTSTART:20180325T010000
END:DAYLIGHT
BEGIN:STANDARD
TZOFFSETFROM:+0200
TZOFFSETTO:+0100
TZNAME:CET
DTSTART:20181028T010000
END:STANDARD
BEGIN:DAYLIGHT
TZOFFSETFROM:+0100
TZOFFSETTO:+0200
TZNAME:CEST
DTSTART:20190331T010000
END:DAYLIGHT
BEGIN:STANDARD
TZOFFSETFROM:+0200
TZOFFSETTO:+0100
TZNAME:CET
DTSTART:20191027T010000
END:STANDARD
END:VTIMEZONE
BEGIN:VEVENT
DTSTART;TZID=Europe/Paris:20180905T080000
DTEND;TZID=Europe/Paris:20180913T170000
DTSTAMP:20260423T223729
CREATED:20240215T142737Z
LAST-MODIFIED:20240215T151459Z
UID:4645-1536134400-1536858000@veuve-chretienne.fr
SUMMARY:Audience privée du pape François en 2018
DESCRIPTION:La FNDR\, née à Lourdes le 8 septembre 1943\, a fêté le jubilé de ses 75 ans par une semaine de pèlerinage à Rome aux pieds des apôtres Pierre et Paul. Avec celles de la Communauté Anne la Prophétesse\, les veuves consacrées de la Fraternité\, arrivées de trois continents\, ont été reçues en audience privée par le pape François le 6 septembre 2018. Il est le pape des périphéries\, sensible aux souffrances des veuves du monde entier. Il les a encouragées à continuer de témoigner de la force de la Résurrection dans leur vie laïque.
URL:https://veuve-chretienne.fr/event/audience-privee-du-pape-francois-en-2018/
ATTACH;FMTTYPE=image/jpeg:https://veuve-chretienne.fr/wp-content/uploads/2023/05/3-Discours-du-pape-aux-veuves-6-sept-2018.jpg
END:VEVENT
END:VCALENDAR